BEGIN:VCALENDAR
VERSION:2.0
PRODID:-//Cisfac - Cidadania que abraça - ECPv6.15.20//NONSGML v1.0//EN
CALSCALE:GREGORIAN
METHOD:PUBLISH
X-WR-CALNAME:Cisfac - Cidadania que abraça
X-ORIGINAL-URL:https://cisfac.org.br
X-WR-CALDESC:Eventos para Cisfac - Cidadania que abraça
REFRESH-INTERVAL;VALUE=DURATION:PT1H
X-Robots-Tag:noindex
X-PUBLISHED-TTL:PT1H
BEGIN:VTIMEZONE
TZID:America/Sao_Paulo
BEGIN:STANDARD
TZOFFSETFROM:-0200
TZOFFSETTO:-0300
TZNAME:-03
DTSTART:20170219T020000
END:STANDARD
BEGIN:DAYLIGHT
TZOFFSETFROM:-0300
TZOFFSETTO:-0200
TZNAME:-02
DTSTART:20171015T030000
END:DAYLIGHT
BEGIN:STANDARD
TZOFFSETFROM:-0200
TZOFFSETTO:-0300
TZNAME:-03
DTSTART:20180218T020000
END:STANDARD
BEGIN:DAYLIGHT
TZOFFSETFROM:-0300
TZOFFSETTO:-0200
TZNAME:-02
DTSTART:20181104T030000
END:DAYLIGHT
BEGIN:STANDARD
TZOFFSETFROM:-0200
TZOFFSETTO:-0300
TZNAME:-03
DTSTART:20190217T020000
END:STANDARD
END:VTIMEZONE
BEGIN:VEVENT
DTSTART;TZID=America/Sao_Paulo:20230810T200000
DTEND;TZID=America/Sao_Paulo:20230810T200000
DTSTAMP:20260423T192418
CREATED:20230909T114110Z
LAST-MODIFIED:20230909T114237Z
UID:1030-1691697600-1691697600@cisfac.org.br
SUMMARY:Culto de Início das atividades de 2023
DESCRIPTION:No dia 10 de Agosto realizamos o primeiro culto de ações de graças\, para começar bem o ano\, pedindo a Deus que nos abençoe em todas as atividades desse novo momento que se inicia. \nFoi maravilhoso! \n 
URL:https://cisfac.org.br/evento/culto-de-inicio-das-atividades-de-2023/
END:VEVENT
BEGIN:VEVENT
DTSTART;TZID=America/Sao_Paulo:20191129T193000
DTEND;TZID=America/Sao_Paulo:20191129T213000
DTSTAMP:20260423T192418
CREATED:20191112T203429Z
LAST-MODIFIED:20191126T144321Z
UID:601-1575055800-1575063000@cisfac.org.br
SUMMARY:Apresentação da Orquestra Som da Esperança entre outras.
DESCRIPTION:Apresentação da Orquestra Som da Esperança e de outros grupos da Escola de Música Emílio de Cezar do Cisfac: Grupo do Coral\, Grupo de Iniciação Musical e Grupo de Flauta Doce.
URL:https://cisfac.org.br/evento/apresentacoes-escola-de-musica/
LOCATION:Cisfac (itapoã)\, Quadra 01 Conjunto F lote 125\, Itapoã\, DF\, 7195600\, Brasil
END:VEVENT
BEGIN:VEVENT
DTSTART;TZID=America/Sao_Paulo:20180206T143000
DTEND;TZID=America/Sao_Paulo:20180206T170000
DTSTAMP:20260423T192418
CREATED:20180202T191735Z
LAST-MODIFIED:20180202T191735Z
UID:350-1517927400-1517936400@cisfac.org.br
SUMMARY:Matrículas (Rajadinha)
DESCRIPTION:Início das matrículas no Cisfac (Rajadinha).
URL:https://cisfac.org.br/evento/matriculas-rajadinha/
LOCATION:Cisfac (Rajadinha)\, Cisfac\, Rajadinha 2\, Rua 2\, Ch 73\, Planaltina\, DF
END:VEVENT
BEGIN:VEVENT
DTSTART;TZID=America/Sao_Paulo:20180205T080000
DTEND;TZID=America/Sao_Paulo:20180205T170000
DTSTAMP:20260423T192418
CREATED:20180202T192113Z
LAST-MODIFIED:20180202T192113Z
UID:354-1517817600-1517850000@cisfac.org.br
SUMMARY:Início das aulas
DESCRIPTION:
URL:https://cisfac.org.br/evento/inicio-das-aulas/
LOCATION:Cisfac (itapoã)\, Quadra 01 Conjunto F lote 125\, Itapoã\, DF\, 7195600\, Brasil
END:VEVENT
BEGIN:VEVENT
DTSTART;TZID=America/Sao_Paulo:20180122T080000
DTEND;TZID=America/Sao_Paulo:20180122T170000
DTSTAMP:20260423T192418
CREATED:20180110T000252Z
LAST-MODIFIED:20180110T000910Z
UID:149-1516608000-1516640400@cisfac.org.br
SUMMARY:Matrículas
DESCRIPTION:Retorno das atividades da secretaria do Cisfac\, com renovação de matrículas e novas vagas.
URL:https://cisfac.org.br/evento/matriculas/
LOCATION:Cisfac\, Itapoã\, Brasília\, DF\, Brasil
END:VEVENT
END:VCALENDAR