BEGIN:VCALENDAR
VERSION:2.0
PRODID:-//Cisfac - Cidadania que abraça - ECPv6.15.20//NONSGML v1.0//EN
CALSCALE:GREGORIAN
METHOD:PUBLISH
X-ORIGINAL-URL:https://cisfac.org.br
X-WR-CALDESC:Eventos para Cisfac - Cidadania que abraça
REFRESH-INTERVAL;VALUE=DURATION:PT1H
X-Robots-Tag:noindex
X-PUBLISHED-TTL:PT1H
BEGIN:VTIMEZONE
TZID:America/Sao_Paulo
BEGIN:STANDARD
TZOFFSETFROM:-0300
TZOFFSETTO:-0300
TZNAME:-03
DTSTART:20220101T000000
END:STANDARD
END:VTIMEZONE
BEGIN:VEVENT
DTSTART;TZID=America/Sao_Paulo:20250210T080000
DTEND;TZID=America/Sao_Paulo:20250210T170000
DTSTAMP:20260423T145220
CREATED:20250205T220212Z
LAST-MODIFIED:20250205T220212Z
UID:1569-1739174400-1739206800@cisfac.org.br
SUMMARY:Retorno das atividades
DESCRIPTION:
URL:https://cisfac.org.br/evento/retorno-das-atividades/
END:VEVENT
BEGIN:VEVENT
DTSTART;TZID=America/Sao_Paulo:20241203T190000
DTEND;TZID=America/Sao_Paulo:20241203T220000
DTSTAMP:20260423T145220
CREATED:20240918T124009Z
LAST-MODIFIED:20240918T124009Z
UID:1433-1733252400-1733263200@cisfac.org.br
SUMMARY:Concerto de Natal
DESCRIPTION:
URL:https://cisfac.org.br/evento/concerto-de-natal/
END:VEVENT
BEGIN:VEVENT
DTSTART;TZID=America/Sao_Paulo:20241117T140000
DTEND;TZID=America/Sao_Paulo:20241117T190000
DTSTAMP:20260423T145220
CREATED:20240918T123630Z
LAST-MODIFIED:20240918T123630Z
UID:1427-1731852000-1731870000@cisfac.org.br
SUMMARY:Recital de Classe
DESCRIPTION:
URL:https://cisfac.org.br/evento/recital-de-classe/
END:VEVENT
BEGIN:VEVENT
DTSTART;VALUE=DATE:20241029
DTEND;VALUE=DATE:20241030
DTSTAMP:20260423T145220
CREATED:20240918T123511Z
LAST-MODIFIED:20240918T123511Z
UID:1425-1730160000-1730246399@cisfac.org.br
SUMMARY:Concurso Anual
DESCRIPTION:
URL:https://cisfac.org.br/evento/concurso-anual/
END:VEVENT
BEGIN:VEVENT
DTSTART;VALUE=DATE:20240729
DTEND;VALUE=DATE:20240730
DTSTAMP:20260423T145220
CREATED:20240727T221144Z
LAST-MODIFIED:20240727T221144Z
UID:1366-1722211200-1722297599@cisfac.org.br
SUMMARY:Início aulas 2° semestre/2024
DESCRIPTION:
URL:https://cisfac.org.br/evento/inicio-aulas-2-semestre-2024/
END:VEVENT
BEGIN:VEVENT
DTSTART;TZID=America/Sao_Paulo:20240708T080000
DTEND;TZID=America/Sao_Paulo:20240728T200000
DTSTAMP:20260423T145220
CREATED:20240727T222309Z
LAST-MODIFIED:20240727T222309Z
UID:1377-1720425600-1722196800@cisfac.org.br
SUMMARY:Recesso
DESCRIPTION:
URL:https://cisfac.org.br/evento/recesso-2/
END:VEVENT
BEGIN:VEVENT
DTSTART;TZID=America/Sao_Paulo:20240618T193000
DTEND;TZID=America/Sao_Paulo:20240618T220000
DTSTAMP:20260423T145220
CREATED:20240727T222007Z
LAST-MODIFIED:20240727T222007Z
UID:1373-1718739000-1718748000@cisfac.org.br
SUMMARY:Recital de Classes
DESCRIPTION:
URL:https://cisfac.org.br/evento/recital-de-classes-2/
END:VEVENT
BEGIN:VEVENT
DTSTART;TZID=America/Sao_Paulo:20240616T150000
DTEND;TZID=America/Sao_Paulo:20240616T200000
DTSTAMP:20260423T145220
CREATED:20240727T222128Z
LAST-MODIFIED:20240727T222128Z
UID:1375-1718550000-1718568000@cisfac.org.br
SUMMARY:Recital de Classes
DESCRIPTION:
URL:https://cisfac.org.br/evento/recital-de-classes-3/
END:VEVENT
BEGIN:VEVENT
DTSTART;TZID=America/Sao_Paulo:20240615T090000
DTEND;TZID=America/Sao_Paulo:20240615T120000
DTSTAMP:20260423T145220
CREATED:20240727T221849Z
LAST-MODIFIED:20240727T221849Z
UID:1371-1718442000-1718452800@cisfac.org.br
SUMMARY:Recital de Classes
DESCRIPTION:
URL:https://cisfac.org.br/evento/recital-de-classes/
END:VEVENT
BEGIN:VEVENT
DTSTART;TZID=America/Sao_Paulo:20240604T190000
DTEND;TZID=America/Sao_Paulo:20240604T193000
DTSTAMP:20260423T145220
CREATED:20240205T135729Z
LAST-MODIFIED:20240206T010656Z
UID:1271-1717527600-1717529400@cisfac.org.br
SUMMARY:Culto mensal
DESCRIPTION:
URL:https://cisfac.org.br/evento/culto-mensal-5/
END:VEVENT
BEGIN:VEVENT
DTSTART;TZID=America/Sao_Paulo:20240507T190000
DTEND;TZID=America/Sao_Paulo:20240507T193000
DTSTAMP:20260423T145220
CREATED:20240205T135653Z
LAST-MODIFIED:20240206T010626Z
UID:1269-1715108400-1715110200@cisfac.org.br
SUMMARY:Culto mensal
DESCRIPTION:
URL:https://cisfac.org.br/evento/culto-mensal-4/
END:VEVENT
BEGIN:VEVENT
DTSTART;TZID=America/Sao_Paulo:20240402T190000
DTEND;TZID=America/Sao_Paulo:20240402T193000
DTSTAMP:20260423T145220
CREATED:20240205T135613Z
LAST-MODIFIED:20240206T010553Z
UID:1267-1712084400-1712086200@cisfac.org.br
SUMMARY:Culto mensal
DESCRIPTION:
URL:https://cisfac.org.br/evento/culto-mensal-3/
END:VEVENT
BEGIN:VEVENT
DTSTART;TZID=America/Sao_Paulo:20240326T193000
DTEND;TZID=America/Sao_Paulo:20240326T213000
DTSTAMP:20260423T145220
CREATED:20240321T135232Z
LAST-MODIFIED:20240322T000231Z
UID:1293-1711481400-1711488600@cisfac.org.br
SUMMARY:Reunião de Pais do Cisfac
DESCRIPTION:
URL:https://cisfac.org.br/evento/reuniao-de-pais-do-cisfac/
END:VEVENT
BEGIN:VEVENT
DTSTART;TZID=America/Sao_Paulo:20240326T193000
DTEND;TZID=America/Sao_Paulo:20240326T203000
DTSTAMP:20260423T145220
CREATED:20240206T011414Z
LAST-MODIFIED:20240206T011414Z
UID:1279-1711481400-1711485000@cisfac.org.br
SUMMARY:Ensaio orquestra
DESCRIPTION:
URL:https://cisfac.org.br/evento/ensaio-orquestra-6/
END:VEVENT
BEGIN:VEVENT
DTSTART;TZID=America/Sao_Paulo:20240319T193000
DTEND;TZID=America/Sao_Paulo:20240319T203000
DTSTAMP:20260423T145220
CREATED:20240206T011224Z
LAST-MODIFIED:20240206T011224Z
UID:1277-1710876600-1710880200@cisfac.org.br
SUMMARY:Ensaio orquestra
DESCRIPTION:
URL:https://cisfac.org.br/evento/ensaio-orquestra-5/
END:VEVENT
BEGIN:VEVENT
DTSTART;TZID=America/Sao_Paulo:20240312T193000
DTEND;TZID=America/Sao_Paulo:20240312T203000
DTSTAMP:20260423T145220
CREATED:20240206T011117Z
LAST-MODIFIED:20240206T011117Z
UID:1275-1710271800-1710275400@cisfac.org.br
SUMMARY:Ensaio orquestra
DESCRIPTION:
URL:https://cisfac.org.br/evento/ensaio-orquestra-4/
END:VEVENT
BEGIN:VEVENT
DTSTART;TZID=America/Sao_Paulo:20240305T193000
DTEND;TZID=America/Sao_Paulo:20240305T203000
DTSTAMP:20260423T145220
CREATED:20240205T135829Z
LAST-MODIFIED:20240206T010253Z
UID:1273-1709667000-1709670600@cisfac.org.br
SUMMARY:Ensaio orquestra
DESCRIPTION:
URL:https://cisfac.org.br/evento/ensaio-orquestra-3/
END:VEVENT
BEGIN:VEVENT
DTSTART;TZID=America/Sao_Paulo:20240305T190000
DTEND;TZID=America/Sao_Paulo:20240305T193000
DTSTAMP:20260423T145220
CREATED:20240205T135154Z
LAST-MODIFIED:20240206T010402Z
UID:1263-1709665200-1709667000@cisfac.org.br
SUMMARY:Culto mensal
DESCRIPTION:
URL:https://cisfac.org.br/evento/culto-mensal-2/
END:VEVENT
BEGIN:VEVENT
DTSTART;TZID=America/Sao_Paulo:20240227T193000
DTEND;TZID=America/Sao_Paulo:20240227T203000
DTSTAMP:20260423T145220
CREATED:20240205T135048Z
LAST-MODIFIED:20240206T010132Z
UID:1261-1709062200-1709065800@cisfac.org.br
SUMMARY:Ensaio orquestra
DESCRIPTION:
URL:https://cisfac.org.br/evento/ensaio-orquestra-2/
END:VEVENT
BEGIN:VEVENT
DTSTART;TZID=America/Sao_Paulo:20240220T193000
DTEND;TZID=America/Sao_Paulo:20240220T203000
DTSTAMP:20260423T145220
CREATED:20240205T134534Z
LAST-MODIFIED:20240206T010032Z
UID:1256-1708457400-1708461000@cisfac.org.br
SUMMARY:Ensaio orquestra
DESCRIPTION:
URL:https://cisfac.org.br/evento/ensaio-orquestra/
END:VEVENT
BEGIN:VEVENT
DTSTART;VALUE=DATE:20240215
DTEND;VALUE=DATE:20240216
DTSTAMP:20260423T145220
CREATED:20240205T134407Z
LAST-MODIFIED:20240205T134407Z
UID:1254-1707955200-1708041599@cisfac.org.br
SUMMARY:Início das aulas
DESCRIPTION:
URL:https://cisfac.org.br/evento/inicio-das-aulas-2/
END:VEVENT
BEGIN:VEVENT
DTSTART;VALUE=DATE:20240212
DTEND;VALUE=DATE:20240215
DTSTAMP:20260423T145220
CREATED:20240205T134829Z
LAST-MODIFIED:20240205T134829Z
UID:1259-1707696000-1707955199@cisfac.org.br
SUMMARY:Recesso
DESCRIPTION:
URL:https://cisfac.org.br/evento/recesso/
END:VEVENT
BEGIN:VEVENT
DTSTART;TZID=America/Sao_Paulo:20240208T193000
DTEND;TZID=America/Sao_Paulo:20240208T220000
DTSTAMP:20260423T145220
CREATED:20240205T134155Z
LAST-MODIFIED:20240205T134155Z
UID:1252-1707420600-1707429600@cisfac.org.br
SUMMARY:Reunião de coordenação (on-line)
DESCRIPTION:
URL:https://cisfac.org.br/evento/reuniao-de-coordenacao-on-line/
END:VEVENT
BEGIN:VEVENT
DTSTART;TZID=America/Sao_Paulo:20240206T193000
DTEND;TZID=America/Sao_Paulo:20240206T203000
DTSTAMP:20260423T145220
CREATED:20240205T133919Z
LAST-MODIFIED:20240206T005923Z
UID:1248-1707247800-1707251400@cisfac.org.br
SUMMARY:Culto mensal
DESCRIPTION:
URL:https://cisfac.org.br/evento/culto-mensal/
END:VEVENT
BEGIN:VEVENT
DTSTART;TZID=America/Sao_Paulo:20240205T080000
DTEND;TZID=America/Sao_Paulo:20240209T180000
DTSTAMP:20260423T145220
CREATED:20240205T134025Z
LAST-MODIFIED:20240205T134025Z
UID:1250-1707120000-1707501600@cisfac.org.br
SUMMARY:Semana pedagógica
DESCRIPTION:
URL:https://cisfac.org.br/evento/semana-pedagogica/
END:VEVENT
BEGIN:VEVENT
DTSTART;TZID=America/Sao_Paulo:20231126T150000
DTEND;TZID=America/Sao_Paulo:20231126T170000
DTSTAMP:20260423T145220
CREATED:20230909T121804Z
LAST-MODIFIED:20230909T121804Z
UID:1041-1701010800-1701018000@cisfac.org.br
SUMMARY:Concerto de Final de Ano - Orquestra Sons da Esperança
DESCRIPTION:No próximo dia 27 de Novembro de 2023 estaremos realizando o nosso tradicional Concerto de Final de Ano\, com a apresentação da Orquestra Sons da Esperança e convidados. \nEsse concerto é o momento onde a nossa orquestra apresenta para a comunidade do Itapoã todo o material que prepararam ao longo de todo o semestre para essa grande confraternização de fim de ano\, que também é uma oportunidade de consagrar e dedicar a Deus todo a nossa gratidão pelas conquistas e bênçãos que tem nos dado em todos os momentos da nossa caminhada. \nVenha participar conosco dessa grande celebração! \n 
URL:https://cisfac.org.br/evento/concerto-de-final-de-ano-orquestra-sons-da-esperanca/
END:VEVENT
BEGIN:VEVENT
DTSTART;TZID=America/Sao_Paulo:20231125T093000
DTEND;TZID=America/Sao_Paulo:20231125T113000
DTSTAMP:20260423T145220
CREATED:20230909T120513Z
LAST-MODIFIED:20230909T121019Z
UID:1038-1700904600-1700911800@cisfac.org.br
SUMMARY:Recital das Classes dos Professores II - Avançados e Grupos de Câmara
DESCRIPTION:No próximo dia 25 de Novembro de 2023\, realizaremos a segunda parte da nossa já aguardada apresentação das classes dos professores da Escola de Música Maestro Emilio de Cesar do CISFAC. \nEsse ano\, devido ao aumento da adesão dos alunos e professores nesse projeto\, estaremos dividindo para 2 dias as apresentações das turmas\, para evitar que o evento fique muito extenso. \nNesse segundo dia\, participarão os alunos adiantados e os grupos de câmara. No dia 23 de Novembro teremos os alunos iniciantes e intermediários. \nEssa é uma oportunidade única no semestre de ver de pertinho a evolução dos nossos alunos com os seus professores. \nNão percam!
URL:https://cisfac.org.br/evento/recital-das-classes-dos-professores-ii-avancados-e-grupos-de-camara/
END:VEVENT
BEGIN:VEVENT
DTSTART;TZID=America/Sao_Paulo:20231123T193000
DTEND;TZID=America/Sao_Paulo:20231123T213000
DTSTAMP:20260423T145220
CREATED:20230909T120150Z
LAST-MODIFIED:20230909T120911Z
UID:1036-1700767800-1700775000@cisfac.org.br
SUMMARY:Recital das Classes dos Professores I - Iniciantes e Intermediários
DESCRIPTION:No próximo dia 23 de Novembro de 2023\, realizaremos a nossa já aguardada apresentação das classes dos professores da Escola de Música Maestro Emilio de Cesar do CISFAC. \nEsse ano\, devido ao aumento da adesão dos alunos e professores nesse projeto\, estaremos dividindo para 2 dias as apresentações das turmas\, para evitar que o evento fique muito extenso. \nNesse primeiro dia\, participarão os alunos iniciantes e intermediários. No dia 25 de Novembro pela manhã teremos os alunos adiantados e os grupos de música de câmara. \nEssa é uma oportunidade única no semestre de ver de pertinho a evolução dos nossos alunos com os seus professores. \nNão percam!
URL:https://cisfac.org.br/evento/recital-das-classes-dos-professores-i-iniciantes-e-intermediarios/
END:VEVENT
BEGIN:VEVENT
DTSTART;TZID=America/Sao_Paulo:20231026T193000
DTEND;TZID=America/Sao_Paulo:20231026T223000
DTSTAMP:20260423T145220
CREATED:20230909T115308Z
LAST-MODIFIED:20230909T115308Z
UID:1034-1698348600-1698359400@cisfac.org.br
SUMMARY:IV Concurso da Escola de Música do CISFAC
DESCRIPTION:No próximo dia 26 de Outubro\, ás 19:30\, teremos mais uma edição do nosso já tradicional Concurso Anual\, com os alunos do Itapoã. Esse evento é um dos mais aguardados do ano pelos alunos que se dedicam e se motivam bastante para se superarem e alcançarem os melhores resultados possíveis. \nO evento é aberto ao público\, que poderá acompanhar as provas\, caso queiram conhecer melhor um pouco do desenvolvimento do nosso corpo discente. \nPrestigiem\, orem e apoiem essa iniciativa que é tão significativa para toda a nossa comunidade.
URL:https://cisfac.org.br/evento/iv-concurso-da-escola-de-musica-do-cisfac/
END:VEVENT
BEGIN:VEVENT
DTSTART;TZID=America/Sao_Paulo:20230930T110000
DTEND;TZID=America/Sao_Paulo:20230930T123000
DTSTAMP:20260423T145220
CREATED:20230909T114730Z
LAST-MODIFIED:20230909T114730Z
UID:1032-1696071600-1696077000@cisfac.org.br
SUMMARY:Série Convidados Especiais - Apresentação do Coral Evangélico de Brasília
DESCRIPTION:No próximo dia 30 de Setembro\, estaremos recebendo no nosso Centro Cultural do Itapoã\, o Coral Evangélico de Brasília\, para um lindo concerto ás 11:00 da manhã. \nNessa ocasião\, a nossa Orquestra Sons da Esperança também fará uma participação especial\, tocando 1 música junto com o Coral\, como já é de praxe na nossa Série Convidados Especiais. \nJá se programem para não perder nada\, porque com certeza será um momento muito especial. \nAguardamos vocês!
URL:https://cisfac.org.br/evento/serie-convidados-especiais-apresentacao-do-coral-evangelico-de-brasilia/
END:VEVENT
END:VCALENDAR